Workbook

Sheet Wireframe
D5: Top 10 Performing states | O5: Bottom 10 Performing states
B6: State | D6: Actual | F6: Budget | H6: Variance | J6: Var % | M6: State | O6: Actual | Q6: Budget | S6: Variance | U6: Var %
B8: =Sheet1!B4 -> California | D8: =Sheet1!C4 -> 83914.618 | F8: =Sheet1!D4 -> 64094.811 | H8: =Sheet1!E4 -> 19819.807 | J8: =H8/F8 -> 0.30922639 | M8: =Sheet1!H4 -> Minnesota | O8: =Sheet1!I4 -> 1369.67 | Q8: =Sheet1!J4 -> 1927.9051 | S8: =Sheet1!K4 -> -558.23506 | U8: =S8/Q8 -> -0.28955527
B9: =Sheet1!B5 -> New York | D9: =Sheet1!C5 -> 47368.644 | F9: =Sheet1!D5 -> 33631.045 | H9: =Sheet1!E5 -> 13737.599 | J9: =H9/F9 -> 0.40847969 | M9: =Sheet1!H5 -> Vermont | O9: =Sheet1!I5 -> 2967.06 | Q9: =Sheet1!J5 -> 3482.3679 | S9: =Sheet1!K5 -> -515.3079 | U9: =S9/Q9 -> -0.1479763
B10: =Sheet1!B6 -> New Jersey | D10: =Sheet1!C6 -> 12921.632 | F10: =Sheet1!D6 -> 3894.155 | H10: =Sheet1!E6 -> 9027.477 | J10: =H10/F10 -> 2.318212 | M10: =Sheet1!H6 -> Arizona | O10: =Sheet1!I6 -> 4382.982 | Q10: =Sheet1!J6 -> 4813.4297 | S10: =Sheet1!K6 -> -430.44775 | U10: =S10/Q10 -> -0.089426411
B11: =Sheet1!B7 -> Virginia | D11: =Sheet1!C7 -> 20500.72 | F11: =Sheet1!D7 -> 15121.505 | H11: =Sheet1!E7 -> 5379.2147 | J11: =H11/F11 -> 0.35573275 | M11: =Sheet1!H7 -> Connecticut | O11: =Sheet1!I7 -> 1898.727 | Q11: =Sheet1!J7 -> 2176.863 | S11: =Sheet1!K7 -> -278.13599 | U11: =S11/Q11 -> -0.12776918
B12: =Sheet1!B8 -> Wisconsin | D12: =Sheet1!C8 -> 7189.74 | F12: =Sheet1!D8 -> 3175.0626 | H12: =Sheet1!E8 -> 4014.6774 | J12: =H12/F12 -> 1.2644404 | M12: =Sheet1!H8 -> New Hampshire | O12: =Sheet1!I8 -> 912.46 | Q12: =Sheet1!J8 -> 1166.2683 | S12: =Sheet1!K8 -> -253.80829 | U12: =S12/Q12 -> -0.21762428
B13: =Sheet1!B9 -> Nevada | D13: =Sheet1!C9 -> 4232.788 | F13: =Sheet1!D9 -> 799.51012 | H13: =Sheet1!E9 -> 3433.2779 | J13: =H13/F13 -> 4.2942269 | M13: =Sheet1!H9 -> Louisiana | O13: =Sheet1!I9 -> 262.76 | Q13: =Sheet1!J9 -> 412.34798 | S13: =Sheet1!K9 -> -149.58798 | U13: =S13/Q13 -> -0.36277122
B14: =Sheet1!B10 -> Ohio | D14: =Sheet1!C10 -> 11184.278 | F14: =Sheet1!D10 -> 8068.6755 | H14: =Sheet1!E10 -> 3115.6025 | J14: =H14/F14 -> 0.38613555 | M14: =Sheet1!H10 -> Idaho | O14: =Sheet1!I10 -> 1183.486 | Q14: =Sheet1!J10 -> 1198.3318 | S14: =Sheet1!K10 -> -14.845843 | U14: =S14/Q14 -> -0.012388758
B15: =Sheet1!B11 -> Colorado | D15: =Sheet1!C11 -> 8025.523 | F15: =Sheet1!D11 -> 5285.0257 | H15: =Sheet1!E11 -> 2740.4973 | J15: =H15/F15 -> 0.51854002 | M15: =Sheet1!H11 -> District of Columbia | O15: =Sheet1!I11 -> 83.15 | Q15: =Sheet1!J11 -> 88.532609 | S15: =Sheet1!K11 -> -5.3826088 | U15: =S15/Q15 -> -0.060798037
B16: =Sheet1!B12 -> Georgia | D16: =Sheet1!C12 -> 10529.53 | F16: =Sheet1!D12 -> 8423.407 | H16: =Sheet1!E12 -> 2106.123 | J16: =H16/F16 -> 0.25003221 | M16: =Sheet1!H12 -> South Carolina | O16: =Sheet1!I12 -> 502.48 | Q16: =Sheet1!J12 -> 503.62532 | S16: =Sheet1!K12 -> -1.1453228 | U16: =S16/Q16 -> -0.0022741565
B17: =Sheet1!B13 -> Maryland | D17: =Sheet1!C13 -> 3721.831 | F17: =Sheet1!D13 -> 1879.9391 | H17: =Sheet1!E13 -> 1841.8919 | J17: =H17/F17 -> 0.97976152 | M17: =Sheet1!H13 -> Kansas | O17: =Sheet1!I13 -> 351.59 | Q17: =Sheet1!J13 -> 276.95171 | S17: =Sheet1!K13 -> 74.638289 | U17: =S17/Q17 -> 0.26949929
B18: Total | D18: =SUM(D8:D17) -> 209589.3 | F18: =SUM(F8:F17) -> 144373.14 | H18: =SUM(H8:H17) -> 65216.168 | J18: =H18/F18 -> 0.45171955 | M18: Total | O18: =SUM(O8:O17) -> 13914.365 | Q18: =SUM(Q8:Q17) -> 16046.623 | S18: =SUM(S8:S17) -> -2132.2585 | U18: =S18/Q18 -> -0.13287895

Sheet Sheet1
B3: Row Labels | C3: Actual Sales | D3: Budget Sales | E3: Variance | H3: Row Labels | I3: Actual Sales | J3: Budget Sales | K3: Variance | N3: Row Labels | O3: Actual Sales | P3: Budget Sales | Q3: Variance | T3: Actual | U3: Budget
B4: California | C4: 83914.618 | D4: 64094.811 | E4: 19819.807 | H4: Minnesota | I4: 1369.67 | J4: 1927.9051 | K4: -558.23506 | N4: Jan | O4: 18542.491 | P4: 14774.133 | Q4: 3768.3581 | S4: Jan | T4: =VLOOKUP(S4,N:P,2,FALSE) -> 18542.491 | U4: =VLOOKUP(S4,N:P,3,FALSE) -> 14774.133
B5: New York | C5: 47368.644 | D5: 33631.045 | E5: 13737.599 | H5: Vermont | I5: 2967.06 | J5: 3482.3679 | K5: -515.3079 | N5: Feb | O5: 22978.815 | P5: 17351.098 | Q5: 5627.7175 | S5: Feb | T5: =VLOOKUP(S5,N:P,2,FALSE) -> 22978.815 | U5: =VLOOKUP(S5,N:P,3,FALSE) -> 17351.098
B6: New Jersey | C6: 12921.632 | D6: 3894.155 | E6: 9027.477 | H6: Arizona | I6: 4382.982 | J6: 4813.4297 | K6: -430.44775 | N6: Mar | O6: 51715.875 | P6: 41894.629 | Q6: 9821.246 | S6: Mar | T6: =VLOOKUP(S6,N:P,2,FALSE) -> 51715.875 | U6: =VLOOKUP(S6,N:P,3,FALSE) -> 41894.629
B7: Virginia | C7: 20500.72 | D7: 15121.505 | E7: 5379.2147 | H7: Connecticut | I7: 1898.727 | J7: 2176.863 | K7: -278.13599 | N7: Apr | O7: 38750.039 | P7: 24332.978 | Q7: 14417.061 | S7: Apr | T7: =VLOOKUP(S7,N:P,2,FALSE) -> 38750.039 | U7: =VLOOKUP(S7,N:P,3,FALSE) -> 24332.978
B8: Wisconsin | C8: 7189.74 | D8: 3175.0626 | E8: 4014.6774 | H8: New Hampshire | I8: 912.46 | J8: 1166.2683 | K8: -253.80829 | N8: May | O8: 56987.728 | P8: 48886.545 | Q8: 8101.183 | S8: May | T8: =VLOOKUP(S8,N:P,2,FALSE) -> 56987.728 | U8: =VLOOKUP(S8,N:P,3,FALSE) -> 48886.545
B9: Nevada | C9: 4232.788 | D9: 799.51012 | E9: 3433.2779 | H9: Louisiana | I9: 262.76 | J9: 412.34798 | K9: -149.58798 | N9: Jun | O9: 40344.534 | P9: 30275.662 | Q9: 10068.872 | S9: Jun | T9: =VLOOKUP(S9,N:P,2,FALSE) -> 40344.534 | U9: =VLOOKUP(S9,N:P,3,FALSE) -> 30275.662
B10: Ohio | C10: 11184.278 | D10: 8068.6755 | E10: 3115.6025 | H10: Idaho | I10: 1183.486 | J10: 1198.3318 | K10: -14.845843 | N10: Jul | O10: 39261.963 | P10: 32505.079 | Q10: 6756.8836 | S10: Jul | T10: =VLOOKUP(S10,N:P,2,FALSE) -> 39261.963 | U10: =VLOOKUP(S10,N:P,3,FALSE) -> 32505.079
B11: Colorado | C11: 8025.523 | D11: 5285.0257 | E11: 2740.4973 | H11: District of Columbia | I11: 83.15 | J11: 88.532609 | K11: -5.3826088 | N11: Aug | O11: 31115.374 | P11: 22090.456 | Q11: 9024.918 | S11: Aug | T11: =VLOOKUP(S11,N:P,2,FALSE) -> 31115.374 | U11: =VLOOKUP(S11,N:P,3,FALSE) -> 22090.456
B12: Georgia | C12: 10529.53 | D12: 8423.407 | E12: 2106.123 | H12: South Carolina | I12: 502.48 | J12: 503.62532 | K12: -1.1453228 | N12: Sep | O12: 73410.025 | P12: 58070.128 | Q12: 15339.897 | S12: Sep | T12: =VLOOKUP(S12,N:P,2,FALSE) -> 73410.025 | U12: =VLOOKUP(S12,N:P,3,FALSE) -> 58070.128
B13: Maryland | C13: 3721.831 | D13: 1879.9391 | E13: 1841.8919 | H13: Kansas | I13: 351.59 | J13: 276.95171 | K13: 74.638289 | N13: Grand Total | O13: 373106.84 | P13: 290180.71 | Q13: 82926.136 | S13: Oct | T13: =VLOOKUP(S13,N:P,2,FALSE) -> #N/A | U13: =VLOOKUP(S13,N:P,3,FALSE) -> #N/A
B14: Florida | C14: 8027.0935 | D14: 6250.2685 | E14: 1776.825 | H14: Iowa | I14: 294.87 | J14: 89.167352 | K14: 205.70265 | S14: Nov | T14: =VLOOKUP(S14,N:P,2,FALSE) -> #N/A | U14: =VLOOKUP(S14,N:P,3,FALSE) -> #N/A
B15: Illinois | C15: 18894.527 | D15: 17200.241 | E15: 1694.2863 | H15: Delaware | I15: 2418.96 | J15: 2171.639 | K15: 247.32097 | S15: Dec | T15: =VLOOKUP(S15,N:P,2,FALSE) -> #N/A | U15: =VLOOKUP(S15,N:P,3,FALSE) -> #N/A
B16: Rhode Island | C16: 2754.46 | D16: 1101.3768 | E16: 1653.0832 | H16: Arkansas | I16: 1274.73 | J16: 899.48699 | K16: 375.24301
B17: Pennsylvania | C17: 25974.071 | D17: 24661.608 | E17: 1312.4628 | H17: Maine | I17: 547.33 | J17: 143.10997 | K17: 404.22003
B18: Utah | C18: 1603.29 | D18: 406.71295 | E18: 1196.577 | H18: Massachusetts | I18: 2240.465 | J18: 1830.9886 | K18: 409.47641
B19: Oregon | C19: 1822.299 | D19: 720.64433 | E19: 1101.6547 | H19: Nebraska | I19: 2403.78 | J19: 1949.0753 | K19: 454.70466
B20: North Carolina | C20: 10331.515 | D20: 9262.9016 | E20: 1068.6134 | H20: Michigan | I20: 10783.004 | J20: 10202.289 | K20: 580.71466
B21: Alabama | C21: 3021.6 | D21: 1971.754 | E21: 1049.846 | H21: Tennessee | I21: 2602.974 | J21: 1969.4985 | K21: 633.4755
B22: Indiana | C22: 1317.23 | D22: 373.09084 | E22: 944.13916 | H22: Kentucky | I22: 1715.25 | J22: 1077.9393 | K22: 637.31072
B23: Texas | C23: 31571.925 | D23: 30696.847 | E23: 875.07816 | H23: Washington | I23: 9645.992 | J23: 8914.1765 | K23: 731.81546
B24: Missouri | C24: 1724.29 | D24: 887.19323 | E24: 837.09677 | H24: Mississippi | I24: 5182.76 | J24: 4360.5542 | K24: 822.20581
B25: Oklahoma | C25: 3450.76 | D25: 2620.3852 | E25: 830.3748 | H25: Oklahoma | I25: 3450.76 | J25: 2620.3852 | K25: 830.3748
B26: Mississippi | C26: 5182.76 | D26: 4360.5542 | E26: 822.20581 | H26: Missouri | I26: 1724.29 | J26: 887.19323 | K26: 837.09677
B27: Washington | C27: 9645.992 | D27: 8914.1765 | E27: 731.81546 | H27: Texas | I27: 31571.925 | J27: 30696.847 | K27: 875.07816
... B47: Grand Total | C47: 373106.84 | D47: 290180.71 | E47: 82926.136 | H47: Grand Total | I47: 373106.84 | J47: 290180.71 | K47: 82926.136
